BEGIN:VCALENDAR
VERSION:2.0
PRODID:-//eventon.com NONSGML v1.0//EN
CALSCALE:GREGORIAN
METHOD:PUBLISH
BEGIN:VEVENT
UID:69e771fa381c0
DTSTAMP:20260421T124754Z
DTSTART:20170104T201500Z
DTEND:20170104T235800Z
LOCATION:Senftöpchen Große Neugasse 2\,  50667 Köln
SUMMARY:Bin völlig meiner Meinung
DESCRIPTION:Bin völlig meiner Meinung\nhttps://beikircher.de/events/bin-vo
 ellig-meiner-meinung-43/
URL:https://beikircher.de/events/bin-voellig-meiner-meinung-43/
END:VEVENT
END:VCALENDAR