BEGIN:VCALENDAR
VERSION:2.0
PRODID:-//eventon.com NONSGML v1.0//EN
CALSCALE:GREGORIAN
METHOD:PUBLISH
BEGIN:VEVENT
UID:69e75e9958d2b
DTSTAMP:20260421T112513Z
DTSTART:20170504T193000Z
DTEND:20170504T235800Z
LOCATION:Schloss Eulenbroich Zum Eulenbroicher Auel 19\,  51503 Rösrath
SUMMARY:Bin völlig meiner Meinung
DESCRIPTION:Bin völlig meiner Meinung\nhttps://beikircher.de/events/bin-vo
 ellig-meiner-meinung-57/
URL:https://beikircher.de/events/bin-voellig-meiner-meinung-57/
END:VEVENT
END:VCALENDAR