BEGIN:VCALENDAR
VERSION:2.0
PRODID:-//eventon.com NONSGML v1.0//EN
CALSCALE:GREGORIAN
METHOD:PUBLISH
BEGIN:VEVENT
UID:69e7447346b02
DTSTAMP:20260421T093339Z
DTSTART:20180112T200000Z
DTEND:20180112T235000Z
LOCATION:Kulturhaus LYZ St.-Johann-Str. 18\,  57074 Siegen
SUMMARY:Passt schon!
DESCRIPTION:Passt schon!\nhttps://beikircher.de/events/passt-schon-44/
URL:https://beikircher.de/events/passt-schon-44/
END:VEVENT
END:VCALENDAR