BEGIN:VCALENDAR
VERSION:2.0
PRODID:-//eventon.com NONSGML v1.0//EN
CALSCALE:GREGORIAN
METHOD:PUBLISH
BEGIN:VEVENT
UID:69e4d9aadb2ad
DTSTAMP:20260419T133330Z
DTSTART:20180930T180000Z
DTEND:20180930T235000Z
LOCATION:Kulturzentrum Klosterkirche Klostergasse 8\,  42897 Remscheid-Lennep
SUMMARY:Passt schon!
DESCRIPTION:Passt schon!\nhttps://beikircher.de/events/passt-schon-74/
URL:https://beikircher.de/events/passt-schon-74/
END:VEVENT
END:VCALENDAR