BEGIN:VCALENDAR
VERSION:2.0
PRODID:-//eventon.com NONSGML v1.0//EN
CALSCALE:GREGORIAN
METHOD:PUBLISH
BEGIN:VEVENT
UID:69e4ebe62cc93
DTSTAMP:20260419T145118Z
DTSTART:20181204T201500Z
DTEND:20181204T235000Z
LOCATION:Senftöpchen Große Neugasse 2\,  50667 Köln
SUMMARY:Sternstunde
DESCRIPTION:V.V.K. in Kürze\nhttps://beikircher.de/events/sternstunde-7/
URL:https://beikircher.de/events/sternstunde-7/
END:VEVENT
END:VCALENDAR