BEGIN:VCALENDAR
VERSION:2.0
PRODID:-//eventon.com NONSGML v1.0//EN
CALSCALE:GREGORIAN
METHOD:PUBLISH
BEGIN:VEVENT
UID:69e4d61a3afa0
DTSTAMP:20260419T131818Z
DTSTART:20200724T193000Z
DTEND:20200724T235000Z
LOCATION:Katharinenhof Venner Straße 51\,  53177 Bonn Bad-Godesberg
SUMMARY:400 Jahre Beikircher
DESCRIPTION:400 Jahre Beikircher\nhttps://beikircher.de/events/400-jahre-be
 ikircher-68/
URL:https://beikircher.de/events/400-jahre-beikircher-68/
END:VEVENT
END:VCALENDAR