BEGIN:VCALENDAR
VERSION:2.0
PRODID:-//eventon.com NONSGML v1.0//EN
CALSCALE:GREGORIAN
METHOD:PUBLISH
BEGIN:VEVENT
UID:69e4d68f89853
DTSTAMP:20260419T132015Z
DTSTART:20210905T180000Z
DTEND:20210905T235000Z
LOCATION:Kunstwerk Wickrathberger Str. 18B\,  41189 Mönchengladbach
SUMMARY:#Beethoven\,  dat dat dat darf!
DESCRIPTION:ERSATZTERMIN FÜR DEN 29.11.2020\nhttps://beikircher.de/events/
 beethoven-dat-dat-dat-darf-82/
URL:https://beikircher.de/events/beethoven-dat-dat-dat-darf-82/
END:VEVENT
END:VCALENDAR