BEGIN:VCALENDAR
VERSION:2.0
PRODID:-//eventon.com NONSGML v1.0//EN
CALSCALE:GREGORIAN
METHOD:PUBLISH
BEGIN:VEVENT
UID:69e6559bcc7f8
DTSTAMP:20260420T163435Z
DTSTART:20220820T063000Z
DTEND:20220820T105000Z
LOCATION:Katharinenhof Venner Straße 51\,  53177 Bonn Bad-Godesberg
SUMMARY:400 Jahre Beikircher
DESCRIPTION:Rheinischer Humor und rheinische Heilige Eintritt 24.- € (erm
 . 19.- €)\nhttps://beikircher.de/events/400-jahre-beikircher-98/
URL:https://beikircher.de/events/400-jahre-beikircher-98/
END:VEVENT
END:VCALENDAR