BEGIN:VCALENDAR
VERSION:2.0
PRODID:-//eventon.com NONSGML v1.0//EN
CALSCALE:GREGORIAN
METHOD:PUBLISH
BEGIN:VEVENT
UID:69e76fe019893
DTSTAMP:20260421T123856Z
DTSTART:20190616T230000Z
DTEND:20190617T050000Z
LOCATION:Katharinenhof Venner Straße 51\,  53177 Bonn Bad-Godesberg
SUMMARY:Konrad empfiehlt: Verleihung The Rhine Prize
DESCRIPTION:Große Außenskulpturenausstellung auf dem Gelände des Kathari
 nenhofs mit Preisgeldverleihung in Höhe von 8000\, - EUR. Preisverleihung 
 ab 14:00 Uhr\nhttps://beikircher.de/events/konrad-empfiehlt-verleihung-the-
 rhine-prize/
URL:https://beikircher.de/events/konrad-empfiehlt-verleihung-the-rhine-prize/
END:VEVENT
END:VCALENDAR