BEGIN:VCALENDAR
VERSION:2.0
PRODID:-//eventon.com NONSGML v1.0//EN
CALSCALE:GREGORIAN
METHOD:PUBLISH
BEGIN:VEVENT
UID:69e4e8d121d92
DTSTAMP:20260419T143809Z
DTSTART:20231209T070000Z
DTEND:20231209T105000Z
LOCATION:Ev. Kirchengemeinde St. Tönis Hülser Str. 57 a\,  47918 Tönisvorst
SUMMARY:Sternstunden <span style="color:red">AUSVERKAUFT!</span>
DESCRIPTION:Beikirchers Advents- und Weihnachtsmix\nhttps://beikircher.de/e
 vents/sternstunden-51/
URL:https://beikircher.de/events/sternstunden-51/
END:VEVENT
END:VCALENDAR