BEGIN:VCALENDAR
VERSION:2.0
PRODID:-//eventon.com NONSGML v1.0//EN
CALSCALE:GREGORIAN
METHOD:PUBLISH
BEGIN:VEVENT
UID:69e4ef8c778b0
DTSTAMP:20260419T150652Z
DTSTART:20251124T040000Z
DTEND:20251124T105900Z
LOCATION:Senftöpchen Große Neugasse 2\,  50667 Köln
SUMMARY:Als Strohhalme noch aus Stroh waren
DESCRIPTION:Als Strohhalme noch aus Stroh waren\nhttps://beikircher.de/even
 ts/als-strohhalme-noch-aus-stroh-waren-7/
URL:https://beikircher.de/events/als-strohhalme-noch-aus-stroh-waren-7/
END:VEVENT
END:VCALENDAR