BEGIN:VCALENDAR
VERSION:2.0
PRODID:-//eventon.com NONSGML v1.0//EN
CALSCALE:GREGORIAN
METHOD:PUBLISH
BEGIN:VEVENT
UID:69e4d7b8ba876
DTSTAMP:20260419T132512Z
DTSTART:20260314T200000Z
DTEND:20260314T235900Z
LOCATION:Franz-Unterstell-Saal Ob. Str. 8\,  53639 Königswinter
SUMMARY:Arrivederci <span style="color:red"><strong>AUSVERKAUFT!</strong></span>
DESCRIPTION:Abschiedstour!\nhttps://beikircher.de/events/arrivederci-7/
URL:https://beikircher.de/events/arrivederci-7/
END:VEVENT
END:VCALENDAR