BEGIN:VCALENDAR
VERSION:2.0
PRODID:-//eventon.com NONSGML v1.0//EN
CALSCALE:GREGORIAN
METHOD:PUBLISH
BEGIN:VEVENT
UID:69e4d5f775644
DTSTAMP:20260419T131743Z
DTSTART:20260208T063000Z
DTEND:20260208T105900Z
LOCATION:Katharinenhof Venner Straße 51\,  53177 Bonn Bad-Godesberg
SUMMARY:Konrad empfiehlt: Erwin Grosche - geniale Kleinkunst seit über 50 Jahren
DESCRIPTION:Konrad empfiehlt: Erwin Grosche - geniale Kleinkunst seit über
  50 Jahren\nhttps://beikircher.de/events/konrad-empfiehlt-erwin-grosche-gen
 iale-kleinkunst-seit-ueber-50-jahren/
URL:https://beikircher.de/events/konrad-empfiehlt-erwin-grosche-geniale-kleinkunst-seit-ueber-50-jahren/
END:VEVENT
END:VCALENDAR